BEGIN:VCALENDAR
VERSION:2.0
PRODID:-//Zoofreunde Duisburg - ECPv5.6.0//NONSGML v1.0//EN
CALSCALE:GREGORIAN
METHOD:PUBLISH
X-WR-CALNAME:Zoofreunde Duisburg
X-ORIGINAL-URL:https://zoofreundeduisburg.de
X-WR-CALDESC:Veranstaltungen für Zoofreunde Duisburg
BEGIN:VTIMEZONE
TZID:Europe/Berlin
BEGIN:DAYLIGHT
TZOFFSETFROM:+0100
TZOFFSETTO:+0200
TZNAME:CEST
DTSTART:20250330T010000
END:DAYLIGHT
BEGIN:STANDARD
TZOFFSETFROM:+0200
TZOFFSETTO:+0100
TZNAME:CET
DTSTART:20251026T010000
END:STANDARD
END:VTIMEZONE
BEGIN:VEVENT
DTSTART;TZID=Europe/Berlin:20251206T121500
DTEND;TZID=Europe/Berlin:20251206T150000
DTSTAMP:20260421T215714
CREATED:20251029T091341Z
LAST-MODIFIED:20251029T091341Z
UID:5207-1765023300-1765033200@zoofreundeduisburg.de
SUMMARY:Ausgebucht! Jahresabschlussführung 2025
DESCRIPTION:Nur für Vereinsmitglieder – ausgebucht –\nJahresabschlussführung 2025\n  \nAuch in diesem Jahr ist es wieder soweit\, am Samstag\, dem 06. Dezember 2025 um 13:00 Uhr findet unsere Jahresabschlussführung im Zoo statt. \nWir freuen uns -wie in den vergangenen Jahren auch- auf unsere Jahresabschlussführung 2025\, zu der wir Sie hiermit herzlich einladen. \nIn den nachfolgend aufgeführten Gruppen werden wir durch den Zoo spazieren und unter anderem auch etwas zu überraschenden Verwandtschaften und die tierärztliche Arbeit erfahren. \n1. Ungewöhnliche Gewohnheiten im Tierreich\n2. Die letzten ihrer Art\n3. Tierärztliche Arbeit im Zoo Duisburg\n4. Zoo Duisburg – Ein historischer Rückblick\n5. Überraschende Verwandtschaftsverhältnisse\n6. Heimliche Stars am Kaiserberg \nAnbei weitere\, wichtige Informationen zur Anmeldung und zum geplanten Ablauf:• Die Teilnahme ist kostenfrei\, die Teilnehmerzahl auf 180 Teilnehmer (je Gruppe max. 30 Personen) limitiert und ausschließlich Mitgliedern unseres Fördervereins vorbehalten \n• Wir bitten aufgrund der limitierten Plätze zwingend bis zum 15. November 2025 um Ihre Anmeldung an verein@zoofreundeduisburg.de\n• Um einen reibungslosen Ablauf und termingerechten Start der Führungen zu gewährleisten\, bitten wir darum bei Ihrer Anmeldung die Präferenz für Ihre gewünschte Gruppe in der Reihenfolge von maximal 1-3 anzugeben\n• Die Vergabe der Plätze erfolgt nach Reihenfolge der Anmeldung und größtmöglicher Berücksichtigung Ihrer präferierten Gruppen\n• Sollten Sie keine Wünsche äußern\, erfolgt die Einteilung in die Gruppen mit noch freien Plätzen\n• Wir werden Ihre Teilnahme (unter Angabe der zugewiesenen Gruppe) ab dem 16. November 2025 via Mail bestätigen\n• Treffpunkt: Zoo Duisburg vor dem Haupteingang \n  – Bitte finden Sie sich frühestens um 12:15 Uhr vor dem Haupteingang des Zoos ein\, um Ihre Anwesenheit anzumelden\, sich Ihren Namensaufkleber bzw. Armbändchen abzuholen und zum vereinbarten Treffpunkt ihrer Gruppe im Zoo zu spazieren.\nACHTUNG: Die Führungen starten erst um 13:00 Uhr an verschiedenen Punkten im Zoo\, damit sich die Gruppen möglichst wenig gegenseitig behindern\n– Sollten Sie sich früher als 12:15 Uhr einfinden\, müssen Sie die Zeit zum Start der Führungen um 13:00 Uhr entsprechend selbstständig überbrücken.\nHINWEIS: Die Führungen beginnen pünktlich um 13:00 Uhr\, bitte stellen Sie sicher\, rechtzeitig am Treffpunkt ihrer Gruppe zu erscheinen.\n• Im Anschluss an die Führungen treffen wir uns wie im vergangenen Jahr auch\, gegenüber der Gastronomie am Delfinarium\, wo der Betreiber der Zoo-Gastronomie\, die Firma HERO die Teilnehmer der Jahresabschlussführung zu Weihnachtsgebäck und Getränken einlädt \nWir weisen ausdrücklich darauf hin\, dass der Eintritt in den Zoo nicht inbegriffen ist. Als Mitglied des Fördervereins erhalten Sie über ihren Mitgliedsausweis  (Papierdokument mit Jahresmarke 2025) im Service-Büro des Zoos (sofern nicht schon vorhanden) eine Zoo-Jahreskarte im Scheckkartenformat. Mittels dieser Zoo-Jahreskarte für Fördervereinsmitglieder können Sie den Zoo für die Führungen kostenfrei betreten. Den Fördervereinsausweis im Papierformat behalten Sie unabhängig davon bitte weiterhin.
URL:https://zoofreundeduisburg.de/veranstaltung/ausgebucht-jahresabschlussfuehrung-2025/
LOCATION:Zoo Duisburg\, Mülheimer Straße 273\, 47058 Duisburg
CATEGORIES:Bärenhütte,Führung
ATTACH;FMTTYPE=image/jpeg:https://zoofreundeduisburg.de/wp-content/uploads/2022/12/zfd_vereinsleben_JAF-2022_02.jpg
END:VEVENT
BEGIN:VEVENT
DTSTART;TZID=Europe/Berlin:20251206T140000
DTEND;TZID=Europe/Berlin:20251206T150000
DTSTAMP:20260421T215714
CREATED:20250224T100904Z
LAST-MODIFIED:20250224T100904Z
UID:4620-1765029600-1765033200@zoofreundeduisburg.de
SUMMARY:Tierbeschäftigung
DESCRIPTION:Keine Anmeldung erforderlich\nTierbeschäftigung\nTierbeschäftigung: Mehr Abwechslung und Lebensqualität für unsere Zootiere \nIm Zoo Duisburg nutzen wir innovative Methoden der Tierbeschäftigung\, um das Leben unserer Tiere möglichst spannend und artgerecht zu gestalten. Verhaltensanreicherung (Behavioral Enrichment) ist eine wichtige Maßnahme zur Verbesserung des psychologischen und physiologischen Wohlbefindens von Tieren in menschlicher Obhut. Individuell auf die artspezifischen Verhaltensweisen abgestimmt\, steigert Tierbeschäftigung die Lebensqualität unserer Zootiere\, indem sie Langeweile und stereotype Verhaltensmuster reduziert. \nSeit vielen Jahren engagieren wir uns bereits in enger Kooperation mit den Zoo-Pflegekräften für die Primaten im Äquatorium. Mit kreativen Beschäftigungen wie verstecktem Futter in Pappröhren oder mit Rosinen gespickten Kiefernzapfen sorgen wir für jede Menge Spielspaß und bringen Abwechslung in den Alltag unserer Menschenaffen\, Roloway-Meerkatzen und Weißscheitelmangaben\, Bärenstummelaffen und Bartaffen. \nSeit Dezember 2023 widmen wir uns nun auch den katzenartigen Raubtieren in zwei weiteren Revieren. Für Tiger\, Löwen\, Kleinkatzen und Fossas befüllen wir spezielle Pappröhren mit Heu und verschiedenen Duftstoffen (Gewürze\, getrocknete Kräuter und Parfums)\, um ihren Geruchssinn zu stimulieren. Eine neue Herausforderung für uns ist die Zubereitung von Beschäftigungsfutter für die Nasenbären\, wobei wir Omnivoren-Pellets verwenden\, die ebenfalls in Pappröhren versteckt werden. \nTierwohl verbindet: Werden Sie Teil unseres Teams! \nUnser ehrenamtliches Engagement im Bereich der Tierbeschäftigung bereichert nicht nur den Alltag der Tiere im Zoo Duisburg\, sondern unterstützt auch die großartige Arbeit unserer engagierten Tierpflegekräfte. Darüber hinaus freuen wir uns\, unseren Förderverein den Zoobesuchern vorstellen zu können. \nWir behalten uns vor\, Veranstaltungen abzusagen\, sollten es die Umstände erfordern. Wir bemühen uns\, alle Änderungen rechtzeitig zu kommunizieren\, können jedoch keine Garantie übernehmen. Wir danken Ihnen für Ihr Verständnis und Ihre Unterstützung. \nLeitung: Frank Gennes\, Dipl. Sozialarbeiter/Naturpädagoge und Fledermausbotschafter (bei Fragen: 01578-38 36 099)\nFoto: © Zoofreunde Duisburg \nAnmeldung und Teilnahmebedingungen\nInteressierte sind herzlich eingeladen\, uns bei unserer Arbeit zu unterstützen – ohne vorherige Anmeldung. \nTreffpunkt:  Unser Tierbeschäftigungsteam trifft sich jeden ersten Samstag im Monat um 14:00 Uhr im Äquatorium\, dem Zuhause von Affe\, Flusspferd & Co. \nDu möchtest ehrenamtlich tätig werden? Melde Dich gerne im Vereinsbüro unter verein@zoofreundeduisburg.de oder telefonisch mittwochs zwischen 9-15 Uhr unter 0203-604-44291. \nDer Eintritt in den Zoo: Als Fördervereinsmitglied erhalten Sie mit Ihrem Fördervereinsmitgliedsausweis (Papierdokument mit Jahresmarke 2025) im Servicebüro des Zoos eine Zoo-Jahreskarte (Scheckkarte). Mit dieser Zoo-Jahreskarte für Fördervereinsmitglieder können Sie den Zoo kostenfrei für das Rosinenstopfen betreten. Den Fördervereinsausweis müssen Sie bitte weiterhin behalten.
URL:https://zoofreundeduisburg.de/veranstaltung/tierbeschaeftigung-18/
LOCATION:Zoo Duisburg\, Mülheimer Straße 273\, 47058 Duisburg
CATEGORIES:Aktion
ATTACH;FMTTYPE=image/jpeg:https://zoofreundeduisburg.de/wp-content/uploads/2024/03/zfd_vereinsleben_tierbeschaeftigung_01.jpg
END:VEVENT
BEGIN:VEVENT
DTSTART;TZID=Europe/Berlin:20251207T110000
DTEND;TZID=Europe/Berlin:20251207T140000
DTSTAMP:20260421T215714
CREATED:20251117T104321Z
LAST-MODIFIED:20251117T110216Z
UID:5332-1765105200-1765116000@zoofreundeduisburg.de
SUMMARY:Vereinshütte heißt willkommen zu Nikolaus
DESCRIPTION:Keine Anmeldung erforderlich\nVereinshütte am Brillenbärengehege\nBevor der Weihnachtsmann endgültig für dieses Jahr die lange Rückreise zum Nordpol antritt\, verschnaufen die Rentiere noch einmal kurzzeitig an unserer Vereinshütte und der Weihnachtsmann mit seinen treuen Elfen verteilt kleine Leckereien*.\n\nWann? Sonntag\, 7.12.2025\nZeit? 11:00 bis 14:00 Uhr\n\n*solange der Vorrat reicht \nHier können Sie sich natürlich auch einfach mit anderen Zoofreunden austauschen oder freundlich nach dem Weg fragen. \nLeitung: Karin Bräunling \nAnmeldung und Teilnahmebedingungen\nJeder ist willkommen und eine Anmeldung nicht nötig. Schauen Sie gerne einfach vorbei! \nSie möchten selbst ehrenamtlich tätig werden und unser Hüttenteam verstärken? Dann melden Sie sich gerne im Vereinsbüro unter verein@zoofreundeduisburg.de und vereinbaren Sie einen Schnuppertermin\, wo sie unverbindlich an einem Hüttendiensttermin teilnehmen können. \nMöchten Sie gerne anderweitig ehrenamtlich tätig werden\, melden Sie sich gerne im Vereinsbüro unter verein@zoofreundeduisburg.de oder telefonisch mittwochs zwischen 9-15 Uhr unter 0203-604-44291. \nDer Eintritt in den Zoo: Als Fördervereinsmitglied erhalten Sie mit Ihrem Fördervereinsmitgliedsausweis (Papierdokument mit Jahresmarke 2025) im Servicebüro des Zoos eine Zoo-Jahreskarte (Scheckkarte). Mit dieser Zoo-Jahreskarte für Fördervereinsmitglieder können Sie den Zoo kostenfrei für den Besuch der Vereinshütte betreten. Den Fördervereinsausweis müssen Sie bitte weiterhin behalten. \n 
URL:https://zoofreundeduisburg.de/veranstaltung/vereinshuette-heisst-willkommen-zu-nikolaus-3/
LOCATION:Zoo Duisburg\, Mülheimer Straße 273\, 47058 Duisburg
CATEGORIES:Aktion,Bärenhütte
ATTACH;FMTTYPE=image/jpeg:https://zoofreundeduisburg.de/wp-content/uploads/2023/12/zfd_vereinsleben_nikolaus-2023_impressionen_02.jpg
END:VEVENT
END:VCALENDAR