BEGIN:VCALENDAR
VERSION:2.0
PRODID:-//Zoofreunde Duisburg - ECPv5.6.0//NONSGML v1.0//EN
CALSCALE:GREGORIAN
METHOD:PUBLISH
X-WR-CALNAME:Zoofreunde Duisburg
X-ORIGINAL-URL:https://zoofreundeduisburg.de
X-WR-CALDESC:Veranstaltungen für Zoofreunde Duisburg
BEGIN:VTIMEZONE
TZID:Europe/Berlin
BEGIN:DAYLIGHT
TZOFFSETFROM:+0100
TZOFFSETTO:+0200
TZNAME:CEST
DTSTART:20250330T010000
END:DAYLIGHT
BEGIN:STANDARD
TZOFFSETFROM:+0200
TZOFFSETTO:+0100
TZNAME:CET
DTSTART:20251026T010000
END:STANDARD
END:VTIMEZONE
BEGIN:VEVENT
DTSTART;TZID=Europe/Berlin:20251004T140000
DTEND;TZID=Europe/Berlin:20251004T150000
DTSTAMP:20260422T010702
CREATED:20250224T091603Z
LAST-MODIFIED:20250224T091603Z
UID:4622-1759586400-1759590000@zoofreundeduisburg.de
SUMMARY:Tierbeschäftigung
DESCRIPTION:Keine Anmeldung erforderlich\nTierbeschäftigung\nTierbeschäftigung: Mehr Abwechslung und Lebensqualität für unsere Zootiere \nIm Zoo Duisburg nutzen wir innovative Methoden der Tierbeschäftigung\, um das Leben unserer Tiere möglichst spannend und artgerecht zu gestalten. Verhaltensanreicherung (Behavioral Enrichment) ist eine wichtige Maßnahme zur Verbesserung des psychologischen und physiologischen Wohlbefindens von Tieren in menschlicher Obhut. Individuell auf die artspezifischen Verhaltensweisen abgestimmt\, steigert Tierbeschäftigung die Lebensqualität unserer Zootiere\, indem sie Langeweile und stereotype Verhaltensmuster reduziert. \nSeit vielen Jahren engagieren wir uns bereits in enger Kooperation mit den Zoo-Pflegekräften für die Primaten im Äquatorium. Mit kreativen Beschäftigungen wie verstecktem Futter in Pappröhren oder mit Rosinen gespickten Kiefernzapfen sorgen wir für jede Menge Spielspaß und bringen Abwechslung in den Alltag unserer Menschenaffen\, Roloway-Meerkatzen und Weißscheitelmangaben\, Bärenstummelaffen und Bartaffen. \nSeit Dezember 2023 widmen wir uns nun auch den katzenartigen Raubtieren in zwei weiteren Revieren. Für Tiger\, Löwen\, Kleinkatzen und Fossas befüllen wir spezielle Pappröhren mit Heu und verschiedenen Duftstoffen (Gewürze\, getrocknete Kräuter und Parfums)\, um ihren Geruchssinn zu stimulieren. Eine neue Herausforderung für uns ist die Zubereitung von Beschäftigungsfutter für die Nasenbären\, wobei wir Omnivoren-Pellets verwenden\, die ebenfalls in Pappröhren versteckt werden. \nTierwohl verbindet: Werden Sie Teil unseres Teams! \nUnser ehrenamtliches Engagement im Bereich der Tierbeschäftigung bereichert nicht nur den Alltag der Tiere im Zoo Duisburg\, sondern unterstützt auch die großartige Arbeit unserer engagierten Tierpflegekräfte. Darüber hinaus freuen wir uns\, unseren Förderverein den Zoobesuchern vorstellen zu können. \nWir behalten uns vor\, Veranstaltungen abzusagen\, sollten es die Umstände erfordern. Wir bemühen uns\, alle Änderungen rechtzeitig zu kommunizieren\, können jedoch keine Garantie übernehmen. Wir danken Ihnen für Ihr Verständnis und Ihre Unterstützung. \nLeitung: Frank Gennes\, Dipl. Sozialarbeiter/Naturpädagoge und Fledermausbotschafter (bei Fragen: 01578-38 36 099)\nFoto: © Zoofreunde Duisburg \nAnmeldung und Teilnahmebedingungen\nInteressierte sind herzlich eingeladen\, uns bei unserer Arbeit zu unterstützen – ohne vorherige Anmeldung. \nTreffpunkt:  Unser Tierbeschäftigungsteam trifft sich jeden ersten Samstag im Monat um 14:00 Uhr im Äquatorium\, dem Zuhause von Affe\, Flusspferd & Co. \nDu möchtest ehrenamtlich tätig werden? Melde Dich gerne im Vereinsbüro unter verein@zoofreundeduisburg.de oder telefonisch mittwochs zwischen 9-15 Uhr unter 0203-604-44291. \nDer Eintritt in den Zoo: Als Fördervereinsmitglied erhalten Sie mit Ihrem Fördervereinsmitgliedsausweis (Papierdokument mit Jahresmarke 2025) im Servicebüro des Zoos eine Zoo-Jahreskarte (Scheckkarte). Mit dieser Zoo-Jahreskarte für Fördervereinsmitglieder können Sie den Zoo kostenfrei für das Rosinenstopfen betreten. Den Fördervereinsausweis müssen Sie bitte weiterhin behalten.
URL:https://zoofreundeduisburg.de/veranstaltung/tierbeschaeftigung-15/
LOCATION:Zoo Duisburg\, Mülheimer Straße 273\, 47058 Duisburg
CATEGORIES:Aktion
ATTACH;FMTTYPE=image/jpeg:https://zoofreundeduisburg.de/wp-content/uploads/2024/06/zfd_vereinsleben_tierbeschaeftigung_05.jpg
END:VEVENT
BEGIN:VEVENT
DTSTART;TZID=Europe/Berlin:20251011T130000
DTEND;TZID=Europe/Berlin:20251011T143000
DTSTAMP:20260422T010702
CREATED:20250224T084839Z
LAST-MODIFIED:20250224T084839Z
UID:4610-1760187600-1760193000@zoofreundeduisburg.de
SUMMARY:Australier im Zoo Duisburg
DESCRIPTION:Anmeldungen/Absagen bis 07. Oktober 2025 | 12:00 Uhr!\nAustralier im Zoo Duisburg\n(Seminar Schüler von 8 -12 Jahren) \nVielen ist die überaus artenreiche Tierwelt in Australien nicht so richtig bekannt. Känguru\, Emu und Koala kennt jeder als Bewohner Australiens. Aber was ist mit Kookaburra\, Taipan\, Dornteufel\, Ameisenigel und Co? \nIm ersten Schritt finden wir an Hand von Fotografien heraus\, welche Tiere in Australien leben. Dabei konzentrieren wir uns auf eine interessante Auswahl\, denn die Artenvielfalt in Australien ist so groß\, dass diese ein mehrtägiges Seminar füllen würde. \nIm zweiten Schritt erarbeiten wir mit Arbeitsblättern gemeinsam die Bedürfnisse und Lebensgewohnheiten der Tiere und halten dies auf den Arbeitsblättern fest: Wie schaut ihr Lebensraum aus\, welche Nahrung bevorzugen sie\, wie ziehen sie ihren Nachwuchs auf? Auch gehen wir auf besondere Verhaltensweisen oder ihre „exotischen Rituale“ ein. \nZum Abschluss des Seminars besuchen wir gemeinsam den Australienbereich unseres Zoos. Hier sehen wir dann einen Teil der im Seminar besprochenen Tiere und vertiefen die erarbeiteten Ergebnisse noch einmal. \nLeitung: Peter Borr\, Vereins- und Beiratsmitglied\nFoto: Philipp Schroeder \nAnmeldung und Teilnahmebedingungen\nFür die Teilnahme ist zwingend eine Anmeldung über E-Mail an verein@zoofreundeduisburg.de erforderlich. Enthalten sein muss: \n\nName aller Teilnehmer\, inkl. Alter (8 – 12 Jahre)\nName der Begleitperson (eine je Familie)\nWohnadresse\nTelefonnummer (falls abgesagt\, verlegt werden muss)\n\nDer Eintritt in den Zoo ist NICHT inbegriffen. Als Fördervereinsmitglied erhalten Sie mit Ihrem Fördervereinsmitgliedsausweis (Papierdokument mit Jahresmarke 2025) im Servicebüro des Zoos eine Zoo-Jahreskarte (Scheckkarte). Mit dieser Zoo-Jahreskarte für Fördervereinsmitglieder können Sie den Zoo kostenfrei für den Workshop betreten. Den Fördervereinsausweis müssen Sie bitte weiterhin sorgfältig aufbewahren. \nTreffpunkt: Neue Zooschule/Evonic-Labor (hinter den Tigergehegen\, der nördlichste Punkt der Zoo-Osthälfte > siehe:  Lageplan Zooschule „C“ ). Bitte planen Sie entsprechend Zeit für den Weg dorthin ein. \nDie Veranstaltung ist für die Begleitperson (eine pro Familie) kostenlos. Kinder (8 – 12 Jahre) zahlen EUR 7\,50 pro Person. Absagen mit Rückerstattung der Teilnehmergebühr können nur bis zum letztmöglichen Anmeldedatum (12:00 Uhr) berücksichtigt werden\, da die Plätze sonst nicht mehr über die Warteliste vergeben werden können. \nDie Teilnehmerzahl ist limitiert. Bitte überweisen Sie den Teilnehmerbeitrag erst\, wenn wir Ihre Teilnahme bestätigen. \n 
URL:https://zoofreundeduisburg.de/veranstaltung/australier-im-zoo-duisburg-14/
LOCATION:Zoo Duisburg\, Mülheimer Straße 273\, 47058 Duisburg
CATEGORIES:Kinderseminar
ATTACH;FMTTYPE=image/jpeg:https://zoofreundeduisburg.de/wp-content/uploads/2023/04/Meeresschildkroete_PS-scaled.jpg
END:VEVENT
BEGIN:VEVENT
DTSTART;TZID=Europe/Berlin:20251018T094500
DTEND;TZID=Europe/Berlin:20251018T173000
DTSTAMP:20260422T010702
CREATED:20250904T063012Z
LAST-MODIFIED:20251009T080010Z
UID:5129-1760780700-1760808600@zoofreundeduisburg.de
SUMMARY:Zoofahrt Dortmund - ausgebucht -
DESCRIPTION:[vc_row][vc_column icons_position=“left“][vc_column_text] \n– Ausgebucht – Anmeldungen bis 14. Oktober 2025 / 12 Uhr\nZoofahrt Dortmund\nUnsere nächste Exkursion führt uns in den Zoo Dortmund. Am Samstag\, den 18.10.2025\, haben Sie die Möglichkeit\, den interessanten und kurzweiligen Zoo als eines der beliebtesten Ausflugsziele in der Region zu besuchen. Auch diese Zoofahrt ist exklusiv für Vereinsmitglieder reserviert. \nWir treffen uns um 9:45 Uhr am Duisburger Zoo\, von wo aus wir gemeinsam um 10:00 Uhr mit dem Bus nach Dortmund fahren. Die Rückfahrt ist für 16:00 Uhr (Abfahrt) geplant. \nIn Dortmund erwartet uns eine Führung durch die Tierhäuser und den Park. Darüber hinaus bleibt genügend Zeit zur individuellen Erkundung des 28 Hektar großen Areals mit rund 1.500 Tieren aus 150 verschiedenen Arten.\nDie großzügige Parklandschaft mit ihrem alten Baumbestand lädt zum Entspannen und Verweilen ein. Genießen Sie die Pausen in einer der gastronomischen Einrichtungen oder in den vielen vorhandenen Picknickbereichen. \nWir freuen uns darauf\, mit Ihnen eine großartige Location zu erkunden. Der Zooverein Dortmund hat bereits seine vollständige Unterstützung zugesagt. Weitere Details folgen hier und/oder werden den Teilnehmerinnen und Teilnehmern per E-Mail mitgeteilt. \nAnmeldung und Teilnahmebedingungen\nNur für Vereinsmitglieder.\n\nFür die Teilnahme ist zwingend eine Anmeldung über E-Mail an verein@zoofreundeduisburg.de erforderlich. Enthalten sein muss: \n\n\n\nNamen aller Personen\nMobiltelefonnummer (falls abgesagt\, verlegt werden muss)\n\n\n\nTreffpunkt: vor dem Haupteingang\, Zoo Duisburg (Treffpunkt Rückfahrt wird im Bus kommuniziert) \nDie Teilnahmegebühr beträgt 27\,50 Euro pro Person und umfasst Fahrtkosten\, den Eintritt und die Führung.\nBitte beachten Sie\, dass Kosten für Verpflegung und Getränke nicht inbegriffen sind. \nDie Teilnehmerzahl ist limitiert. Bitte überweisen Sie den Teilnehmerbeitrag erst\, wenn wir Ihre Teilnahme bestätigen.  \nWir behalten uns das Recht vor\, die Fahrt notfalls abzusagen\, sofern außergewöhnliche Umstände es erfordern. Hierfür bitten wir um Ihr Verständnis. Weitere Details folgen hier und/oder werden den Teilnehmerinnen und Teilnehmern per E-Mail mitgeteilt. \n  \n(Foto: © Natallia Vintsik / #29646324 / stock.adobe.com) \n[/vc_column_text][/vc_column][/vc_row]
URL:https://zoofreundeduisburg.de/veranstaltung/zoofahrt-dortmund/
LOCATION:Zoo Dortmund\, Mergelteichstr. 80\, Dortmund\, NRW\, 44225
CATEGORIES:Ausflug,Bildungsreise,Zootour
ATTACH;FMTTYPE=image/jpeg:https://zoofreundeduisburg.de/wp-content/uploads/2025/08/zfd_vereinsleben_zootour-2025_anmeldung.jpg
END:VEVENT
BEGIN:VEVENT
DTSTART;TZID=Europe/Berlin:20251018T110000
DTEND;TZID=Europe/Berlin:20251018T131500
DTSTAMP:20260422T010702
CREATED:20250311T115803Z
LAST-MODIFIED:20250326T090914Z
UID:4659-1760785200-1760793300@zoofreundeduisburg.de
SUMMARY:Grüne Giganten
DESCRIPTION:Anmeldungen/Absagen bis 14. Oktober 2025 | 12:00 Uhr!\nBaumkunde für Anfänger*innen\n(ab 10 Jahren) \nEine botanische Exkursion durch den Zoo \nEine Welt ohne Bäume ist für viele unvorstellbar. Doch was wissen wir eigentlich über diese Pflanzen\, die (je nach Art) über 100 Meter hoch und über 4000 Jahre alt werden können? \nIm Rahmen dieser Baumkunde-Exkursion wollen wir gemeinsam die Welt der Bäume erkunden:\n– Laubbäume und Nadelbäume\n– Obstbäume\, Parkbäume und Waldbäume\n– Bäume in der Kunst\, im Brauchtum und im Naturschutz\nwerden vorgestellt\, Gemeinsamkeiten und Unterschiede erklärt. \nBei unserer kleinen „Weltreise“ lernen wir nicht nur unsere einheimischen Arten näher kennen\, wir begegnen auch einer Vielzahl an Bäumen aus Asien und Nordamerika. Selbst Vertreter aus Südamerika\, Afrika und Australien vertragen teilweise unser Klima\, ein Phänomen\, das wir etwas näher untersuchen wollen \nNeben Übungen zur Blattbestimmung stehen immer wieder Früchte und Samen im Mittelpunkt. Außerdem werden Tierarten vorgestellt\, die auf\, zwischen oder sogar von den gezeigten Bäumen leben. \nLeitung: Frank Gennes\, Dipl. Sozialarbeiter/Naturpädagoge und Fledermausbotschafter\nFoto: © Frank Gennes \nAnmeldung und Teilnahmebedingungen\nNur für Mitglieder des Vereins der Freunde des Duisburger Tierpark e.V.\nFür die Teilnahme ist zwingend eine Anmeldung über E-Mail an verein@zoofreundeduisburg.de erforderlich. Enthalten sein muss: \n\nNamen aller Personen\, inkl. Alter (über oder unter 18 Jahren)\ndie Wohnadresse\nTelefonnummer (falls abgesagt\, verlegt werden muss)\n\nDer Eintritt in den Zoo ist NICHT inbegriffen. Als Fördervereinsmitglied erhalten Sie mit Ihrem Fördervereinsmitgliedsausweis (Papierdokument mit Jahresmarke 2025) im Servicebüro des Zoos eine Zoo-Jahreskarte (Scheckkarte). Mit dieser Zoo-Jahreskarte für Fördervereinsmitglieder können Sie den Zoo kostenfrei für die Führungen betreten. Den Fördervereinsausweis müssen Sie bitte weiterhin sorgfältig aufbewahren. \nTreffpunkt: Zoo Duisburg\, HINTER dem Haupteingang (innen)\, links neben dem ehemaligen Giraffenhauseingang \nDie Veranstaltung ist für Kinder und Jugendliche kostenlos. Erwachsene (ab 18 Jahren) zahlen EUR 5\,- pro Person. Absagen mit Rückerstattung der Teilnehmergebühr können nur bis zum letztmöglichen Anmeldedatum (12:00 Uhr) berücksichtigt werden\, da die Plätze sonst nicht mehr über die Warteliste vergeben werden können. \nDie Teilnehmerzahl ist limitiert. Bitte überweisen Sie den Teilnehmerbeitrag erst\, wenn wir Ihre Teilnahme bestätigen.
URL:https://zoofreundeduisburg.de/veranstaltung/gruene-giganten-9/
LOCATION:Zoo Duisburg\, Mülheimer Straße 273\, 47058 Duisburg
CATEGORIES:Führung
ATTACH;FMTTYPE=image/jpeg:https://zoofreundeduisburg.de/wp-content/uploads/2023/02/Riesen-Mammutbaum-Zoo-F-2018-05-31-scaled.jpg
END:VEVENT
BEGIN:VEVENT
DTSTART;TZID=Europe/Berlin:20251018T140000
DTEND;TZID=Europe/Berlin:20251018T161500
DTSTAMP:20260422T010702
CREATED:20250311T115805Z
LAST-MODIFIED:20250311T115805Z
UID:4660-1760796000-1760804100@zoofreundeduisburg.de
SUMMARY:Grüne Giganten
DESCRIPTION:Anmeldungen/Absagen bis 14. Oktober 2025 | 12:00 Uhr!\nBaumkunde für Anfänger*innen\n(ab 10 Jahren) \nEine botanische Exkursion durch den Zoo \nEine Welt ohne Bäume ist für viele unvorstellbar. Doch was wissen wir eigentlich über diese Pflanzen\, die (je nach Art) über 100 Meter hoch und über 4000 Jahre alt werden können? \nIm Rahmen dieser Baumkunde-Exkursion wollen wir gemeinsam die Welt der Bäume erkunden:\n– Laubbäume und Nadelbäume\n– Obstbäume\, Parkbäume und Waldbäume\n– Bäume in der Kunst\, im Brauchtum und im Naturschutz\nwerden vorgestellt\, Gemeinsamkeiten und Unterschiede erklärt. \nBei unserer kleinen „Weltreise“ lernen wir nicht nur unsere einheimischen Arten näher kennen\, wir begegnen auch einer Vielzahl an Bäumen aus Asien und Nordamerika. Selbst Vertreter aus Südamerika\, Afrika und Australien vertragen teilweise unser Klima\, ein Phänomen\, das wir etwas näher untersuchen wollen \nNeben Übungen zur Blattbestimmung stehen immer wieder Früchte und Samen im Mittelpunkt. Außerdem werden Tierarten vorgestellt\, die auf\, zwischen oder sogar von den gezeigten Bäumen leben. \nLeitung: Frank Gennes\, Dipl. Sozialarbeiter/Naturpädagoge und Fledermausbotschafter\nFoto: © Frank Gennes \nAnmeldung und Teilnahmebedingungen\nNur für Mitglieder des Vereins der Freunde des Duisburger Tierpark e.V.\nFür die Teilnahme ist zwingend eine Anmeldung über E-Mail an verein@zoofreundeduisburg.de erforderlich. Enthalten sein muss: \n\nNamen aller Personen\, inkl. Alter (über oder unter 18 Jahren)\ndie Wohnadresse\nTelefonnummer (falls abgesagt\, verlegt werden muss)\n\nDer Eintritt in den Zoo ist NICHT inbegriffen. Als Fördervereinsmitglied erhalten Sie mit Ihrem Fördervereinsmitgliedsausweis (Papierdokument mit Jahresmarke 2025) im Servicebüro des Zoos eine Zoo-Jahreskarte (Scheckkarte). Mit dieser Zoo-Jahreskarte für Fördervereinsmitglieder können Sie den Zoo kostenfrei für die Führungen betreten. Den Fördervereinsausweis müssen Sie bitte weiterhin sorgfältig aufbewahren. \nTreffpunkt: Zoo Duisburg\, HINTER dem Haupteingang (innen)\, links neben dem ehemaligen Giraffenhauseingang \nDie Veranstaltung ist für Kinder und Jugendliche kostenlos. Erwachsene (ab 18 Jahren) zahlen EUR 5\,- pro Person. Absagen mit Rückerstattung der Teilnehmergebühr können nur bis zum letztmöglichen Anmeldedatum (12:00 Uhr) berücksichtigt werden\, da die Plätze sonst nicht mehr über die Warteliste vergeben werden können. \nDie Teilnehmerzahl ist limitiert. Bitte überweisen Sie den Teilnehmerbeitrag erst\, wenn wir Ihre Teilnahme bestätigen.
URL:https://zoofreundeduisburg.de/veranstaltung/gruene-giganten-10/
LOCATION:Zoo Duisburg\, Mülheimer Straße 273\, 47058 Duisburg
CATEGORIES:Führung
ATTACH;FMTTYPE=image/jpeg:https://zoofreundeduisburg.de/wp-content/uploads/2023/02/Riesen-Mammutbaum-Zoo-F-2018-05-31-scaled.jpg
END:VEVENT
BEGIN:VEVENT
DTSTART;TZID=Europe/Berlin:20251026T150000
DTEND;TZID=Europe/Berlin:20251026T170000
DTSTAMP:20260422T010702
CREATED:20250121T094507Z
LAST-MODIFIED:20250122T125701Z
UID:4554-1761490800-1761498000@zoofreundeduisburg.de
SUMMARY:Keine Angst vor Spinnen
DESCRIPTION:Anmeldungen/Absagen bis 21. Oktober 2025 | 12:00 Uhr!\nVortrag und Gespräch mit Gelegenheit zur Spinnenbegegnung\nSie gelten als gruselig und ekelhaft\, verbreiten Schrecken in der Gesellschaft und sind gefährlich.\nSie fressen ihre Partner nach dem Geschlechtsakt gerne auf. Die Rede ist von: Spinnen. \nDoch wie sieht ihr Leben abseits dieser Mythen wirklich aus? \nFressen sie wirklich gerne ihre Partner?\nWie können sie ihre Körperorgane erneuern\, ohne eine Transplantation zu benötigen? \nSind diese Tiere wirklich so\, wie sie nach Außen dargestellt werden? \nDiesen und vielen weiteren Fragen geht Spinnenexperte Simon Schoofs im Workshop „Keine Angst vor Spinnen“ auf den Grund. Dabei können Sie viele neue Fakten erfahren\, die es Ihnen ermöglichen\, das Verhalten der Tiere zu verstehen und werden die Tiere danach garantiert mit anderen Augen sehen. \nVielleicht wandeln sich dadurch sogar Angst und Ekel in eine Ihnen zuvor unbekannte Faszination. \nWer mag\, darf auch den Kontakt zu lebenden Spinnen suchen und sich ihnen vorsichtig nähern. Falls gewünscht besteht auch die Möglichkeit einer Kontaktaufnahme mit dieser spannenden Tierart. \nLeitung: Simon Schoofs\nFoto:© Simon Schoofs \nAnmeldung und Teilnahmebedingungen\nNur für Mitglieder des Vereins der Freunde des Duisburger Tierpark e.V.\nFür die Teilnahme ist zwingend eine Anmeldung über E-Mail an verein@zoofreundeduisburg.de erforderlich. Enthalten sein muss: \n\nNamen aller Personen\ndie Wohnadresse\nTelefonnummer (falls abgesagt\, verlegt werden muss)\n\nDer Eintritt in den Zoo ist NICHT inbegriffen. Als Fördervereinsmitglied erhalten Sie mit Ihrem Fördervereinsmitgliedsausweis (Papierdokument mit Jahresmarke 2025) im Servicebüro des Zoos eine Zoo-Jahreskarte (Scheckkarte). Mit dieser Zoo-Jahreskarte für Fördervereinsmitglieder können Sie den Zoo kostenfrei für den Workshop betreten. Den Fördervereinsausweis müssen Sie bitte weiterhin sorgfältig aufbewahren. \nTreffpunkt: Neue Zooschule/Evonic-Labor (hinter den Tigergehegen\, der nördlichste Punkt der Zoo-Osthälfte > siehe:  Lageplan Zooschule „C“ ). Bitte planen Sie entsprechend Zeit für den Weg dorthin ein. \nKosten: EUR 15\,- pro Person. Absagen mit Rückerstattung der Teilnehmergebühr können nur bis zum letztmöglichen Anmeldedatum\, s. o. (12:00 Uhr) berücksichtigt werden\, da die Plätze sonst nicht mehr über die Warteliste vergeben werden können.\nDauer: ca. 2 Stunden \nDie Teilnehmerzahl ist limitiert. Bitte überweisen Sie den Teilnehmerbeitrag erst\, wenn wir Ihre Teilnahme bestätigen.
URL:https://zoofreundeduisburg.de/veranstaltung/keine-angst-vor-spinnen-20/
LOCATION:Zoo Duisburg\, Mülheimer Straße 273\, 47058 Duisburg
CATEGORIES:Workshop
ATTACH;FMTTYPE=image/jpeg:https://zoofreundeduisburg.de/wp-content/uploads/2022/05/zfd_event_spinnen.jpg
END:VEVENT
END:VCALENDAR