BEGIN:VCALENDAR
VERSION:2.0
PRODID:-//Zoofreunde Duisburg - ECPv5.6.0//NONSGML v1.0//EN
CALSCALE:GREGORIAN
METHOD:PUBLISH
X-WR-CALNAME:Zoofreunde Duisburg
X-ORIGINAL-URL:https://zoofreundeduisburg.de
X-WR-CALDESC:Veranstaltungen für Zoofreunde Duisburg
BEGIN:VTIMEZONE
TZID:Europe/Berlin
BEGIN:DAYLIGHT
TZOFFSETFROM:+0100
TZOFFSETTO:+0200
TZNAME:CEST
DTSTART:20260329T010000
END:DAYLIGHT
BEGIN:STANDARD
TZOFFSETFROM:+0200
TZOFFSETTO:+0100
TZNAME:CET
DTSTART:20261025T010000
END:STANDARD
END:VTIMEZONE
BEGIN:VEVENT
DTSTART;TZID=Europe/Berlin:20260711T090000
DTEND;TZID=Europe/Berlin:20260711T163000
DTSTAMP:20260421T211228
CREATED:20260323T110130Z
LAST-MODIFIED:20260324T153449Z
UID:5615-1783760400-1783787400@zoofreundeduisburg.de
SUMMARY:Zoofahrt Kleve
DESCRIPTION:Anmeldungen bis 28. Juni 2026 / 12 Uhr\nZoofahrt Kleve\nUnsere nächste an einem Wochenende stattfindende Zoofahrt führt uns in die beliebteste Freizeiteinrichtung Kleves\, nämlich den Tiergarten Kleve. \nEr beherbergt auf einer Fläche von ca. 6 Hektar etwa 350 Tiere mit dem Schwerpunkt auf zumeist alten\, bedrohten Haustierrassen. Im Rahmen des Europäischen Erhaltungszuchtprogramms (EEP) hält er auch Zweifarbentamarine und Kleine Pandas. Seit 2021 leben nun auch Maras und Gürteltiere im Tiergarten. Eine Besonderheit des „Familienzoos“ ist die Nähe zum Tier\, wobei die Besucher die meisten Tiere mit im Park erhältlichem Futter aus der Hand füttern können. Auch der Tiergarten Kleve erneuert seine Ausrichtung über einen Masterplan\, so sind bereits neue Anlagen für Zwergseidenäffchen und Kleine Pandas entstanden\, die authentische Lebensräume der Tierarten zeigen. In acht Themenbereichen sollen künftig die Gäste sowohl gefährdete Nutztiere als auch vom Aussterben bedrohte Wildtiere hautnah erleben können. Neben einer neuen Robbenanlage sowie dem Bau eines begehbaren Geheges für Pinguine soll auch die größte Weißkopfseeadleranlage Europas entstehen. Weitere geplante Themenbereiche sind Südamerika\, Asien\, Afrika\, ein Schaubauernhof sowie eine begehbare Australienvoliere mit Wellensittichen und Parmakängurus. \nAm Samstag\, den 11.07.2026 haben Sie die Möglichkeit\, gerne auch mit unseren kleinen Vereinsmitgliedern\, den Tiergarten mit uns zu besuchen. Gehen Sie auf Tuchfühlung mit bedrohten Schafen und Ziegen und lassen Sie sich von Roten Pandas\, Lisztaffen und Zwergottern begeistern. Große Spielplätze und zwei Streichelzoos lassen Kinderaugen leuchten und sorgen für einen tierisch tollen Tag im Familienzoo am Niederrhein. \nDiese Zoofahrt ist wie immer exklusiv für Vereinsmitglieder reserviert. \nWir treffen uns um 09:00 Uhr am Duisburger Zoo\, von wo aus wir gemeinsam um 09:30 Uhr mit dem Bus nach Kleve fahren.\nDie Rückfahrt ist für 15:00 Uhr geplant\, wobei der genaue Abfahrtsort und -zeit noch bekannt gegeben werden. \nIm Tierpark Kleve erwartet uns eine Führung\, die in bis zu drei Gruppen aufgeteilt werden kann\, gefolgt von genügend Zeit zur individuellen Erkundung des parkähnlichen Geländes. \nDer Tierpark ist weitestgehend barrierefrei\, jedoch sind die Toiletten am Eingang nicht ideal für Rollstuhlfahrer. \nAnmeldungen für diese Fahrt werden ab sofort entgegengenommen. \nDie Teilnahmegebühr beträgt  27\,- Euro (unter Vorbehalt der Benzinpreisentwicklung) pro Person und umfasst Fahrtkosten\, Eintritt sowie die Führung. Bitte beachten Sie\, dass Kosten für Verpflegung und Getränke nicht inbegriffen sind und von Ihnen selbst getragen werden müssen. \nAnmeldung und Teilnahmebedingungen\nNur für Vereinsmitglieder.\n \nEine Anmeldung per E-Mail an verein@zoofreundeduisburg.de ist zwingend erforderlich (bitte NICHT auf den Newsletter antworten). \nNachfolgende Informationen müssen angegeben werden: \n\n\n\nVor- und Nachname aller teilnehmenden Personen\nTelefonnummer (vorzugsweise Mobilnummer)\n\n\n\nTreffpunkt: vor dem Haupteingang\, Zoo Duisburg (Treffpunkt Rückfahrt wird im Bus kommuniziert) \nDie Teilnahmegebühr beträgt  27\,- Euro (unter Vorbehalt der Benzinpreisentwicklung) pro Person und umfasst Fahrtkosten\, den Eintritt und die Führung.\nBitte beachten Sie\, dass Kosten für Verpflegung und Getränke nicht inbegriffen sind. \nDie Teilnehmerzahl ist limitiert. Den Teilnahmebeitrag bitten wir erst nach unserer Bestätigung zu überweisen.\nBei mehr Anmeldungen als verfügbaren Plätzen\, behalten wir uns eine Auslosung der Teilnehmenden vor. Sie erhalten Ihre Bestätigung oder Absagen nach dem jeweiligen Anmeldeschluss.  \nWir behalten uns das Recht vor\, die Fahrt notfalls abzusagen\, sofern außergewöhnliche Umstände es erfordern. Hierfür bitten wir um Ihr Verständnis. Wir freuen uns darauf\, mit Ihnen eine großartige Location zu erkunden. Weitere Details folgen hier und/oder werden den Teilnehmerinnen und Teilnehmern per E-Mail mitgeteilt. \n  \n(Foto: © Natallia Vintsik / #29646324 / stock.adobe.com)
URL:https://zoofreundeduisburg.de/veranstaltung/zoofahrt-kleve/
LOCATION:Zoo Kleve\, Tiergartenstraße 74\, Kleve\, 47533\, Deutschland
CATEGORIES:Ausflug,Bildungsreise,Zootour
ATTACH;FMTTYPE=image/jpeg:https://zoofreundeduisburg.de/wp-content/uploads/2026/03/zfd_vereinsleben_zootour-2026_kleve.jpg
END:VEVENT
END:VCALENDAR