BEGIN:VCALENDAR
VERSION:2.0
PRODID:-//Zoofreunde Duisburg - ECPv5.6.0//NONSGML v1.0//EN
CALSCALE:GREGORIAN
METHOD:PUBLISH
X-WR-CALNAME:Zoofreunde Duisburg
X-ORIGINAL-URL:https://zoofreundeduisburg.de
X-WR-CALDESC:Veranstaltungen für Zoofreunde Duisburg
BEGIN:VTIMEZONE
TZID:Europe/Berlin
BEGIN:DAYLIGHT
TZOFFSETFROM:+0100
TZOFFSETTO:+0200
TZNAME:CEST
DTSTART:20260329T010000
END:DAYLIGHT
BEGIN:STANDARD
TZOFFSETFROM:+0200
TZOFFSETTO:+0100
TZNAME:CET
DTSTART:20261025T010000
END:STANDARD
END:VTIMEZONE
BEGIN:VEVENT
DTSTART;TZID=Europe/Berlin:20260503T100000
DTEND;TZID=Europe/Berlin:20260503T160000
DTSTAMP:20260421T170531
CREATED:20260421T114249Z
LAST-MODIFIED:20260421T121602Z
UID:5658-1777802400-1777824000@zoofreundeduisburg.de
SUMMARY:Vereinshütte heißt willkommen
DESCRIPTION:Keine Anmeldung erforderlich\nVereinshütte am Brillenbärengehege\nVon Ende März bis November laden ehrenamtliche Helfer*innen des Fördervereins zum Rätseln\, Staunen und Informieren an der Vereinshütte am Brillenbärengehege ein. Jeden Sonn- und Feiertag öffnet die Hütte spätestens um 10 Uhr ihre Läden und ist bis 16 Uhr geöffnet. \nWarum es sich lohnt vorbeizukommen:\n\ndiverse Exponate (Spinnen- und Schlangenhaut\, Eier in verschiedenen Größen und Farben\, Schildkrötenpanzer\, Federn\, …)\nunser „Tast-Elefant“ mit sechs rätselhaften Exponaten\, die durch Tasten erraten werden wollen (kommt nicht immer zum Einsatz)\nAusmalbilder von Vereinsmitgliedern für Kinder\nInformationen zum Verein und zur Vereinsmitgliedschaft\nInformationen zur ehrenamtlichen Arbeit\n\nHier können Sie sich natürlich auch einfach mit anderen Zoofreunden austauschen oder freundlich nach dem Weg fragen. \nLeitung: Karin Bräunling \nAnmeldung und Teilnahmebedingungen\nJeder ist willkommen und eine Anmeldung nicht nötig. Schauen Sie gerne einfach vorbei! \nSie möchten selbst ehrenamtlich tätig werden und unser Hüttenteam verstärken? Dann melden Sie sich gerne im Vereinsbüro unter verein@zoofreundeduisburg.de und vereinbaren Sie einen Schnuppertermin\, wo sie unverbindlich an einem Hüttendiensttermin auf der anderen Seite teilnehmen können. \nMöchten Sie nicht in der Vereinshütte\, sondern anderweitig ehrenamtlich tätig werden\, melden Sie sich gerne im Vereinsbüro unter verein@zoofreundeduisburg.de oder telefonisch mittwochs zwischen 9-15 Uhr unter 0203-604-44291. \nDer Eintritt in den Zoo: \nAls Fördervereinsmitglied erhalten Sie mit Ihrem Fördervereinsmitgliedsausweis (Papierdokument mit Jahresmarke 2026) im Servicebüro des Zoos eine Zoo-Jahreskarte (Scheckkarte). Mit dieser Zoo-Jahreskarte für Fördervereinsmitglieder können Sie den Zoo kostenfrei für den Besuch der Vereinshütte betreten. \nDen Fördervereinsausweis müssen Sie bitte für die Dauer Ihrer Mitgliedschaft sorgfältig aufbewahren.
URL:https://zoofreundeduisburg.de/veranstaltung/5658/
LOCATION:Zoo Duisburg\, Mülheimer Straße 273\, 47058 Duisburg
CATEGORIES:Bärenhütte
ATTACH;FMTTYPE=image/jpeg:https://zoofreundeduisburg.de/wp-content/uploads/2024/04/zfd_vereinsleben_baerenhuette_make-up_07.jpg
END:VEVENT
END:VCALENDAR