BEGIN:VCALENDAR
VERSION:2.0
PRODID:-//Zoofreunde Duisburg - ECPv5.6.0//NONSGML v1.0//EN
CALSCALE:GREGORIAN
METHOD:PUBLISH
X-WR-CALNAME:Zoofreunde Duisburg
X-ORIGINAL-URL:https://zoofreundeduisburg.de
X-WR-CALDESC:Veranstaltungen für Zoofreunde Duisburg
BEGIN:VTIMEZONE
TZID:Europe/Berlin
BEGIN:DAYLIGHT
TZOFFSETFROM:+0100
TZOFFSETTO:+0200
TZNAME:CEST
DTSTART:20260329T010000
END:DAYLIGHT
BEGIN:STANDARD
TZOFFSETFROM:+0200
TZOFFSETTO:+0100
TZNAME:CET
DTSTART:20261025T010000
END:STANDARD
END:VTIMEZONE
BEGIN:VEVENT
DTSTART;TZID=Europe/Berlin:20260405T100000
DTEND;TZID=Europe/Berlin:20260405T160000
DTSTAMP:20260421T205526
CREATED:20260305T115237Z
LAST-MODIFIED:20260305T120842Z
UID:5596-1775383200-1775404800@zoofreundeduisburg.de
SUMMARY:Ostern in der Bärenhütte
DESCRIPTION:Keine Anmeldung erforderlich\nKinder Ralley\, Zaubershow u.v.m.\n\n\nAm Ostersonntag und Ostermontag öffnet unsere Vereinshütte ihre Türen. \nVon 10:00 bis 16:00 Uhr begrüßt Sie unser Hüttenteam\, bestehend aus ehrenamtlichen Helfer*innen des Fördervereins. \nUnsere beliebte Oster-Rallye der letzten Jahre findet auch in 2026 wieder am Ostersonntag und Ostermontag statt – ein unvergessliches Abenteuer für die ganze Familie! \nAuf zur Hasenjagd!\nBegib dich auf eine spannende Suche nach unseren Osterhasen und – neu in diesem Jahr – Enten\, die im gesamten Zoo verteilt sind. Insgesamt gilt es\, alle liebevoll gestalteten Holzhasen und -enten an den verschiedenen Stationen zu entdecken. Der Start und das Ziel der Rallye befindet sich an unserer Vereinshütte nahe der Bärenanlage. \nBelohnung für die Mühen!\nFür die Kinder wird der Aufwand am Ende der Rallye mit einer süßen Überraschung* und einer liebevoll handgefertigten Teilnehmerurkunde* belohnt – ein Andenken\, welches den Tag unvergesslich macht! \n*solange der Vorrat reicht \nMagische Momente erleben!\nEin Highlight des Programms ist die Zaubershow mit unserem Zauberer Roy\, die Jung und Alt gleichermaßen begeistern wird. Mit zahlreichen Tricks und Animationen zum Mitmachen wird die Vorstellung garantiert zum magischen Erlebnis für alle! \nKommt vorbei\, erlebt eine unvergessliche Osterzeit und lasst euch von unserem vielseitigen Programm verzaubern!  \nDie Show findet an diesem Tag zu verschiedenen Zeiten statt – fragen Sie unser Team! \nLeitung: Karin Bräunling \nAnmeldung und Teilnahmebedingungen\nJeder ist willkommen und eine Anmeldung nicht nötig. Schauen Sie gerne einfach vorbei! \nSie möchten selbst ehrenamtlich tätig werden und unser Hüttenteam verstärken? Dann melden Sie sich gerne im Vereinsbüro unter verein@zoofreundeduisburg.de und vereinbaren Sie einen Schnuppertermin\, wo sie unverbindlich an einem Hüttendiensttermin auf der anderen Seite teilnehmen können. \nMöchten Sie nicht in der Vereinshütte\, sondern anderweitig ehrenamtlich tätig werden\, melden Sie sich gerne im Vereinsbüro unter verein@zoofreundeduisburg.de oder telefonisch mittwochs zwischen 9-15 Uhr unter 0203-604-44291. \nDer Eintritt in den Zoo: \nAls Fördervereinsmitglied erhalten Sie mit Ihrem Fördervereinsmitgliedsausweis (Papierdokument mit Jahresmarke 2026) im Servicebüro des Zoos eine Zoo-Jahreskarte (Scheckkarte). Mit dieser Zoo-Jahreskarte für Fördervereinsmitglieder können Sie den Zoo kostenfrei für den Besuch der Vereinshütte betreten. \nDen Fördervereinsausweis müssen Sie bitte für die Dauer Ihrer Mitgliedschaft sorgfältig aufbewahren.
URL:https://zoofreundeduisburg.de/veranstaltung/ostern-in-der-baerenhuette/
LOCATION:Zoo Duisburg\, Mülheimer Straße 273\, 47058 Duisburg
CATEGORIES:Aktion,Bärenhütte
ATTACH;FMTTYPE=image/jpeg:https://zoofreundeduisburg.de/wp-content/uploads/2022/04/zfd_vereinsleben_osterrallye-2022.jpg
END:VEVENT
END:VCALENDAR